BEGIN:VCALENDAR
VERSION:2.0
PRODID:-//NEEN - ECPv6.13.2.1//NONSGML v1.0//EN
CALSCALE:GREGORIAN
METHOD:PUBLISH
X-WR-CALNAME:NEEN
X-ORIGINAL-URL:https://neen.org.na
X-WR-CALDESC:Events for NEEN
REFRESH-INTERVAL;VALUE=DURATION:PT1H
X-Robots-Tag:noindex
X-PUBLISHED-TTL:PT1H
BEGIN:VTIMEZONE
TZID:Africa/Windhoek
BEGIN:STANDARD
TZOFFSETFROM:+0200
TZOFFSETTO:+0200
TZNAME:CAT
DTSTART:20230101T000000
END:STANDARD
END:VTIMEZONE
BEGIN:VEVENT
DTSTART;VALUE=DATE:20230703
DTEND;VALUE=DATE:20230709
DTSTAMP:20260423T194936
CREATED:20230509T192841Z
LAST-MODIFIED:20230509T192841Z
UID:855-1688342400-1688860799@neen.org.na
SUMMARY:National Clean-up Week
DESCRIPTION:
URL:https://neen.org.na/event/national-clean-up-week
END:VEVENT
BEGIN:VEVENT
DTSTART;VALUE=DATE:20230701
DTEND;VALUE=DATE:20230801
DTSTAMP:20260423T194936
CREATED:20230509T192734Z
LAST-MODIFIED:20230509T192753Z
UID:853-1688169600-1690847999@neen.org.na
SUMMARY:Plastic Free July
DESCRIPTION:
URL:https://neen.org.na/event/plastic-free-july
END:VEVENT
BEGIN:VEVENT
DTSTART;TZID=Africa/Windhoek:20230622T080000
DTEND;TZID=Africa/Windhoek:20230625T170000
DTSTAMP:20260423T194936
CREATED:20230509T192659Z
LAST-MODIFIED:20230509T192659Z
UID:851-1687420800-1687712400@neen.org.na
SUMMARY:NEEN Conference
DESCRIPTION:
URL:https://neen.org.na/event/neen-conference
END:VEVENT
BEGIN:VEVENT
DTSTART;VALUE=DATE:20230621
DTEND;VALUE=DATE:20230622
DTSTAMP:20260423T194936
CREATED:20230509T192553Z
LAST-MODIFIED:20230509T192553Z
UID:849-1687305600-1687391999@neen.org.na
SUMMARY:World Giraffe Day
DESCRIPTION:
URL:https://neen.org.na/event/world-giraffe-day
END:VEVENT
BEGIN:VEVENT
DTSTART;VALUE=DATE:20230617
DTEND;VALUE=DATE:20230618
DTSTAMP:20260423T194936
CREATED:20230509T192448Z
LAST-MODIFIED:20230509T192448Z
UID:847-1686960000-1687046399@neen.org.na
SUMMARY:World Day to Combat Desertification and Drought
DESCRIPTION:
URL:https://neen.org.na/event/world-day-to-combat-desertification-and-drought
END:VEVENT
BEGIN:VEVENT
DTSTART;VALUE=DATE:20230608
DTEND;VALUE=DATE:20230609
DTSTAMP:20260423T194936
CREATED:20230509T192401Z
LAST-MODIFIED:20230509T192401Z
UID:845-1686182400-1686268799@neen.org.na
SUMMARY:World Oceans Day
DESCRIPTION:
URL:https://neen.org.na/event/world-oceans-day
END:VEVENT
BEGIN:VEVENT
DTSTART;VALUE=DATE:20230605
DTEND;VALUE=DATE:20230606
DTSTAMP:20260423T194936
CREATED:20230509T192324Z
LAST-MODIFIED:20230509T192324Z
UID:843-1685923200-1686009599@neen.org.na
SUMMARY:World Environmental Day
DESCRIPTION:
URL:https://neen.org.na/event/world-environmental-day
END:VEVENT
BEGIN:VEVENT
DTSTART;VALUE=DATE:20230522
DTEND;VALUE=DATE:20230523
DTSTAMP:20260423T194936
CREATED:20230509T192246Z
LAST-MODIFIED:20230509T192246Z
UID:841-1684713600-1684799999@neen.org.na
SUMMARY:International Day for Biological Diversity
DESCRIPTION:
URL:https://neen.org.na/event/international-day-for-biological-diversity
END:VEVENT
BEGIN:VEVENT
DTSTART;VALUE=DATE:20230513
DTEND;VALUE=DATE:20230514
DTSTAMP:20260423T194936
CREATED:20230509T192215Z
LAST-MODIFIED:20230509T192215Z
UID:839-1683936000-1684022399@neen.org.na
SUMMARY:World Migratory Bird Day
DESCRIPTION:
URL:https://neen.org.na/event/world-migratory-bird-day
END:VEVENT
BEGIN:VEVENT
DTSTART;VALUE=DATE:20230422
DTEND;VALUE=DATE:20230423
DTSTAMP:20260423T194936
CREATED:20230509T192127Z
LAST-MODIFIED:20230509T192127Z
UID:837-1682121600-1682207999@neen.org.na
SUMMARY:Earth Day
DESCRIPTION:
URL:https://neen.org.na/event/earth-day
END:VEVENT
BEGIN:VEVENT
DTSTART;VALUE=DATE:20230405
DTEND;VALUE=DATE:20230406
DTSTAMP:20260423T194936
CREATED:20230509T192017Z
LAST-MODIFIED:20230509T192017Z
UID:834-1680652800-1680739199@neen.org.na
SUMMARY:International Day for Mine Awareness
DESCRIPTION:
URL:https://neen.org.na/event/international-day-for-mine-awareness
END:VEVENT
BEGIN:VEVENT
DTSTART;TZID=Africa/Windhoek:20230325T083000
DTEND;TZID=Africa/Windhoek:20230325T083000
DTSTAMP:20260423T194936
CREATED:20230509T191929Z
LAST-MODIFIED:20230509T191929Z
UID:832-1679733000-1679733000@neen.org.na
SUMMARY:Earth Hour
DESCRIPTION:
URL:https://neen.org.na/event/earth-hour
END:VEVENT
BEGIN:VEVENT
DTSTART;VALUE=DATE:20230322
DTEND;VALUE=DATE:20230323
DTSTAMP:20260423T194936
CREATED:20230509T191838Z
LAST-MODIFIED:20230509T191838Z
UID:830-1679443200-1679529599@neen.org.na
SUMMARY:World Water Day
DESCRIPTION:
URL:https://neen.org.na/event/world-water-day
END:VEVENT
BEGIN:VEVENT
DTSTART;VALUE=DATE:20230318
DTEND;VALUE=DATE:20230319
DTSTAMP:20260423T194936
CREATED:20230509T191756Z
LAST-MODIFIED:20230509T191756Z
UID:828-1679097600-1679183999@neen.org.na
SUMMARY:Global Recycling Day
DESCRIPTION:
URL:https://neen.org.na/event/global-recycling-day
END:VEVENT
BEGIN:VEVENT
DTSTART;VALUE=DATE:20230303
DTEND;VALUE=DATE:20230304
DTSTAMP:20260423T194936
CREATED:20230509T191550Z
LAST-MODIFIED:20230509T191550Z
UID:826-1677801600-1677887999@neen.org.na
SUMMARY:World Wildlife Day
DESCRIPTION:
URL:https://neen.org.na/event/world-wildlife-day
END:VEVENT
BEGIN:VEVENT
DTSTART;VALUE=DATE:20230218
DTEND;VALUE=DATE:20230219
DTSTAMP:20260423T194936
CREATED:20230509T191438Z
LAST-MODIFIED:20230509T191438Z
UID:824-1676678400-1676764799@neen.org.na
SUMMARY:World Pangolin Day
DESCRIPTION:
URL:https://neen.org.na/event/world-pangolin-day
END:VEVENT
BEGIN:VEVENT
DTSTART;VALUE=DATE:20230202
DTEND;VALUE=DATE:20230203
DTSTAMP:20260423T194936
CREATED:20230509T191312Z
LAST-MODIFIED:20230509T191312Z
UID:822-1675296000-1675382399@neen.org.na
SUMMARY:World Wetlands Day
DESCRIPTION:
URL:https://neen.org.na/event/world-wetlands-day
END:VEVENT
END:VCALENDAR